Workbook

Sheet Calculadora d'ajudes - PREE
A6: CALCULADORA D'AJUDES PROGRAMA PREE 5000
A7: PARTICULARS, ADMINISTRACIÓ PÚBLICA O ENTITAT SENSE ACTIVITAT COMERCIAL
A8: Important: Només s'han d'omplir les cel·les amb fons blau
A10: TIPUS DE DESTINATARI DE L'AJUDA
A11: 1. Persona física de naturalesa privada: ciutadà propietari de l’edifici, part de l’edifici o local.
A13: TIPUS D'ACTUACIÓ
A14: Opció A: actuacions en edificis sencers | C14: =IF(A14=Full1!A42,"A","B") -> A
A16: TIPUS D'EDFICI
A17: Altres usos | C17: =IF(A17=Full1!A7,0,B17) -> 0
A19: AJUTS ADDICIONALS
A20: CRITERI SOCIAL (només habitatges)
A21: Compleix alguna de les següents condicions: | B21: No | C21: =COUNTIF(B21,"Sí") -> 0
A22: Actuacions dutes a terme en edificis residencials que hagen estat definitivament qualificats amb algun règim de protecció pública
A23: Actuacions que siguen realitzades en edificis d'habitatges situats en les Àrees de Regeneració i Renovació Urbanes o Rurals, d'acord amb el Pla Estatal d'Habitatge 2018-2021, regulat pel Reial Decret 106/2018, de 9 de març
A24: Consumidors que tinguen concedit el bo social
A25: EFICIÈNCIA ENERGÈTICA | C25: Tipo 1 | D25: Tipo 2.1+2.2-2.3 altres usos+2.4
A26: Cap ajuda addicional per eficiència energètica | C26: =IF(A26=Full1!A36,"0,15",IF(A26=Full1!A37,"0,10",IF(A26=Full1!A38,"0,05",0))) -> 0 | D26: =IF(A26=Full1!A36,"0,10",IF(A26=Full1!A37,"0,05",IF(A26=Full1!A38,"0",0))) -> 0
A27: ACTUACIÓ INTEGRADA
A28: Realitza alguna de les següents actuacions: | B28: No | C28: =COUNTIF(B28,"Sí") -> 0
A29: Habitatges que realitzen una modificació de l'envolupant amb una disminució mínima d'un 30% de la demanda global de calefacció i refrigeració, i una altra actuació sobre la instal·lació tèrmica (tipus 2.2-2.4) amb una substitució mínima del 60% de la potència de generació tèrmica. En el cas de realitzar una instal·lació solar tèrmica (2.1), aquesta haurà de cobrir al menys el 30% de la demanda d'energia per ACS i/o climatització de piscines en el cas S1 o el 30% de la demanda de calefacció i/o refrigeració en els casos S2 i S3
A30: Altres usos que realitzen una modificació de l'envolupant amb una disminució mínima d'un 30% de la demanda global de calefacció i refrigeració, i una altra actuació sobre la instal·lació tèrmica (tipus 2.2-2.4) amb una substitució mínima del 60% de la potència de generació tèrmica. En el cas de realitzar una instal·lació solar tèrmica (2.1), aquesta haurà de cobrir al menys el 30% de la demanda d'energia per ACS i/o climatització de piscines en el cas S1 o el 30% de la demanda de calefacció i/o refrigeració en els casos S2 i S3
A31: Altres usos que realitzen una modificació de l'envolupant amb una disminució mínima d'un 30% de la demanda global de calefacció i refrigeració, i una altra actuació sobre la il·luminació amb una substitució mínima del 25% de la superfície de il·luminació | D31: NOTA: INSTRUCCIONS PER A OMPLIR ELS COSTOS ELEGIBLES
A32: Edificis inclosos en "comunitats locals d'energia" segons la Directiva (UE) 2018/2001 | D32: Els costos elegibles que siguen comuns a les diferents actuacions, hi hauran de prorratejar-se en funció del % de participació del cost elegible de cada actuació enfront del total.
D33: Tots els costos elegibles s'hauran d'omplir amb l'IVA (sempre que no siga susceptible de recuperació o compensació)
A35: ACTUACIÓ TIPUS 1 | B35: COST ELEGIBLE | E35: % AJUDA BASE | F35: % AJUDA ADDICIONAL PER CRITERI SOCIAL | G35: % AJUDA ADDICIONAL PER EFICIÈNCIA ENERGÈTICA | H35: % AJUDA ADDICIONAL PER ACTUACIÓ INTEGRADA | I35: % AJUDA ADDICIONAL TOTAL | J35: % AJUDA TOTAL | K35: AJUDA TOTAL [€]
A36: Millora de l'eficiència energètica de la envolupant tèrmica | B36: 0 | E36: =IF(A14=Full1!A42,0.5,0.4) -> 0.5 | F36: =IF(A17=Full1!A6,(0.15*C21),0) -> 0 | G36: =C26*1 -> 0 | H36: =0.25*C28 -> 0 | I36: =SUM(F36:H36) -> 0 | J36: =MIN(I36+E36,1) -> 0.5 | K36: =J36*TRUNC(B36,0) -> 0
A38: ACTUACIÓ TIPUS 2 | B38: COST ELEGIBLE | C38: POTÈNCIA TÈRMICA NOVA [kW] | D38: COST ELEGIBLE MÀXIM | E38: % AJUDA BASE | F38: % AJUDA ADDICIONAL PER CRITERI SOCIAL | G38: % AJUDA ADDICIONAL PER EFICIÈNCIA ENERGÈTICA | H38: % AJUDA ADDICIONAL PER ACTUACIÓ INTEGRADA | I38: % AJUDA ADDICIONAL TOTAL | J38: % AJUDA TOTAL | K38: AJUDA TOTAL [€]
A39: Millora de l'eficiència energètica de les instal·lacions tèrmiques
A40: 2.1 Substitució d'energia convencional per energia solar tèrmica
A41: Cap | B41: 0 | C41: 10 | D41: =IF(A41=Full1!A11,MIN(B41,1000*C41),IF(A41=Full1!A12,MIN(B41,1500*C41),IF(A41=Full1!A13,MIN(B41,1850*C41),IF(A41=Full1!A10,0)))) -> 0 | E41: =IF(A14=Full1!A42,0.4,0.3) -> 0.4 | F41: =IF(A17=Full1!A6,(0.1*C21),0) -> 0 | G41: =D26*1 -> 0 | H41: =0.2*C28 -> 0 | I41: =SUM(F41:H41) -> 0 | J41: =I41+E41 -> 0.4 | K41: =J41*TRUNC(D41,0) -> 0
A42: 2.2 Substitució d'energia convencional per energia geotèrmica
A43: Cap | B43: 0 | C43: 0 | D43: =IF(A43=Full1!A17,MIN(B43,1600*(C43^0.83)),IF(A43=Full1!A18,MIN(B43,4000*(C43^0.83)),IF(A43=Full1!A19,MIN(B43,2600*(C43^0.83)),IF(A43=Full1!A20,MIN(B43,5000*(C43^0.83)),IF(A43=Full1!A16,0))))) -> 0 | E43: =IF(A14=Full1!A42,0.4,0.3) -> 0.4 | F43: =IF(A17=Full1!A6,(0.1*C21),0) -> 0 | G43: =IF(A17=Full1!A6,0,D26*1) -> 0 | H43: =(0.2*C28) -> 0 | I43: =SUM(F43:H43) -> 0 | J43: =I43+E43 -> 0.4 | K43: =J43*TRUNC(D43,0) -> 0
A44: 2.3 Substitució d'energia convencional per biomassa a les instal·lacions tèrmiques
A45: Cap | B45: 0 | C45: 0 | D45: =IF(A45=Full1!A24,MIN(B45,400*C45),IF(A45=Full1!A25,MIN(B45,880*(C45^0.87)),IF(A45=Full1!A26,MIN(B45,1540*(C45^0.87)),IF(A45=Full1!A27,MIN(B45,1250*(C45^0.87)),IF(A45=Full1!A28,MIN(B45,2124*(C45^0.87)),IF(A45=Full1!A29,MIN(B45,2374*(C45^0.87)),IF(A45=Full1!A23,0))))))) -> 0 | E45: =IF(A14=Full1!A42,0.4,0.3) -> 0.4 | F45: =IF(A17=Full1!A6,(0.1*C21),0) -> 0 | G45: =IF(A17=Full1!A6,0,(D26*1)) -> 0 | H45: =0.15*C28 -> 0 | I45: =SUM(F45:H45) -> 0 | J45: =I45+E45 -> 0.4 | K45: =J45*TRUNC(D45,0) -> 0
A46: 2.4 Millora de l'eficiència energètica dels subsistemes de generació no inclosos als apartats 2.1 a 2.3 | B46: 0 | E46: =IF(A14=Full1!A42,0.4,0.3) -> 0.4 | F46: 0 | G46: =D26*1 -> 0 | H46: =0.05*C28 -> 0 | I46: =SUM(F46:H46) -> 0 | J46: =I46+E46 -> 0.4 | K46: =J46*TRUNC(B46,0) -> 0
A47: 2.5 Millora de l'eficiència energètica dels subsistemes de distribució, regulació, control i emissió de les instal·lacions tèrmiques
A48: Cas D1: actuacions que permeten millorar l'eficiència energètica en les instal·lacions tèrmiques dels edificis en els sistemes de distribució, regulació i control, elements terminals, etc. | B48: 0 | E48: =IF(A14=Full1!A42,0.4,0.3) -> 0.4 | F48: 0 | G48: =D26*1 -> 0 | H48: =0.05*C28 -> 0 | I48: =SUM(F48:H48) -> 0 | J48: =I48+E48 -> 0.4 | K48: =J48*TRUNC(B48,0) -> 0
A49: Cas D2: seran considerades també subvencionables els sistemes de monitorització del consum d'energia en temps real o de forma diferida, que permeten la transmissió de la seva informació cap als seus usuaris mitjançant dispositius digitals. | B49: 0 | E49: =IF(A14=Full1!A42,0.4,0.3) -> 0.4 | J49: =I49+E49 -> 0.4 | K49: =J49*TRUNC(B49,0) -> 0
A51: ACTUACIÓ TIPUS 3 | B51: COST ELEGIBLE | E51: % AJUDA BASE | F51: % AJUDA ADDICIONAL PER CRITERI SOCIAL | G51: % AJUDA ADDICIONAL PER EFICIÈNCIA ENERGÈTICA | H51: % AJUDA ADDICIONAL PER ACTUACIÓ INTEGRADA | I51: % AJUDA ADDICIONAL TOTAL | J51: % AJUDA TOTAL | K51: AJUDA TOTAL [€]
A52: Millora de l'eficiència energètica de les instal·lacions d'il·luminació | B52: 0 | E52: =0.2 -> 0.2 | F52: 0 | G52: =D26*1 -> 0 | H52: =0.05*C28 -> 0 | I52: =SUM(F52:H52) -> 0 | J52: =I52+E52 -> 0.2 | K52: =J52*TRUNC(B52,0) -> 0
...

Sheet Full1
A1: AFIRMATIU/NEGATIU
A2: Sí
A3: No
A5: TIPUS D'EDIFICI
A6: Habitatge
A7: Altres usos
A9: TIPUS D'ACTUACIONS 2.1
A10: Cap
A11: Cas S1: ACS i/o climatització de piscines
A12: Cas S2: calefacció i opcionalment cas S1
A13: Cas S3: calefacció i refrigeració, i opcionalment cas S1
A15: TIPUS D'ACTUACIONS 2.2
... A51: 9.Ajuntaments, diputacions provincials, mancomunitats o agrupacions de municipis, les administracions de les comunitats autònomes o organisme públic en representació de propietaris d'edificis
