Workbook
Name EMP: Full1!$A$47:$A$49
Name EMPRESA: 'Calculadora de ayudas - PREE'!$G$5:$G$10

Sheet Calculadora de ayudas - PREE
A3: CALCULADORA DE AYUDAS PROGRAMA PREE 5000
A4: EMPRESAS Y ENTIDADES CON ACTIVIDAD MERCANTIL Y/O COMERCIAL
A5: Rellenar únicamente las celdas con fondo azul
A7: TIPO DE DESTINATARIO DE LA AYUDA
A8: A2. Persona jurídica de naturaleza privada: sociedades propietarias de un edificio de viviendas, hoteles, colegios, residencias, supermercados, etc.
A10: TIPO DE EMPRESA
A11: Pequeña. Menos de 50 trabajadores y volumen de negocio inferior a 10 M€
A13: TIPO DE ACTUACIÓN
A14: Opción A: actuaciones en edificios completos | C14: =IF(A14=Full1!A42,"A","B") -> A
A16: TIPO DE EDIFICIO
A17: Otros usos | C17: =IF(A17=Full1!A7,0,B17) -> 0
A19: TIPO DE EDIFICIO APLICACIÓN REGLAMENTO (UE) 2021/1237
A20: vii. Otros edificios | C20: =IF(A20=Full1!A69,1,0) -> 1
A22: AYUDAS ADICIONALES
A23: CRITERIO SOCIAL (solamente para viviendas)
A24: Cumple alguna de las siguientes condiciones?: | B24: No | C24: =COUNTIF(B24,"Sí") -> 0
A25: Actuaciones en edificios residenciales que hayan sido calificados definitivamente bajo algún régimen de protección pública
A26: Actuaciones realizadas en edificios de viviendas situados en las Áreas de Regeneración y Renovación Urbanas o Rurales, de acuerdo con el Plan Estatal de Vivienda 2018-2021
A27: Consumidores que tengan concedido el bono social
A28: EFICIENCIA ENERGÉTICA | C28: Tipo 1
A29: Ninguna ayuda adicional por eficiencia energética | C29: =IF(A29=Full1!A36,"0,15",IF(A29=Full1!A37,"0,10",IF(A29=Full1!A38,"0,05",0))) -> 0 | D29: =IF(A29=Full1!A36,"0,10",IF(A29=Full1!A37,"0,05",IF(A29=Full1!A38,"0",0))) -> 0
A30: ACTUACIÓN INTEGRADA
A31: Realiza alguna de las siguientes actuaciones?: | B31: No | C31: =COUNTIF(B31,"Sí") -> 0
A32: Viviendas que realicen una modificación de la envolvente térmica con una disminución mínima de un 30% de la demanda global de calefacción y refrigeración, y otra actuación sobre la instalación térmica (tipo 2.2-2.4) con una sustitución mínima del 60% de la potencia de generación térmica. En el caso de realizar una instalación solar térmica (2.1), esta tendrá que cubrir al menos el 30% de la demanda de energía para ACS y/o climatización de piscinas en el caso S1 o el 30% de la demanda de calefacción y/o refrigeración en los casos S2 i S3
A33: Edificios de otros usos que realicen una modificación de la envolvente térmica con una disminución mínima de un 30% de la demanda global de calefacción y refrigeración, y otra actuación sobre la instalación térmica (tipo 2.2-2.4) con una sustitución mínima del 60% de la potencia de generación térmica. En el caso de realizar una instalación solar térmica (2.1), esta tendrá que cubrir al menos el 30% de la demanda de energía para ACS y/o climatización de piscinas en el caso S1 o el 30% de la demanda de calefacción y/o refrigeración en los casos S2 i S3
A34: Edificios de otros usos que realicen una modificación de la envolvente térmica con una disminución mínima de un 30% de la demanda global de calefacción y refrigeración, y otra actuación sobre la iluminación con una sustitución mínima del 25% de la superficie de iluminación | D34: NOTA: INSTRUCCIONES PARA RELLENAR LOS COSTES ELEGIBLES
A35: Edificios incluidos en "comunidades locales de energía" según la Directiva (UE) 2018/2001 | D35: Los costes elegibles que sean comunes a las diferentes actuaciones, han de prorratearse en función del % de participación del coste elegible de cada actuació sobre el total.
D36: Todos los costes elegibles incluirán el IVA (siempre que no sea susceptible de recuperación o compensación)
A38: ACTUACIÓN TIPO 1 | B38: COSTE ELEGIBLE | E38: COSTE DE REFERENCIA DE LA INSTALACIÓN CONVENCIONAL EQUIVALENTE | F38: COSTE SUBVENCIONABLE | G38: % AYUDA BASE | H38: % AYUDA ADICIONAL POR CRITERIO SOCIAL | I38: % AYUDA ADICIONAL POR EFICIENCIA ENERGÉTICA | J38: % AYUDA ADICIONAL POR ACTUACIÓN INTEGRADA | K38: % AYUDA ADICIONAL TOTAL | L38: % AYUDA TOTAL | M38: % AYUDA MÁXIMA POR TIPO DE EMPRESA | N38: AYUDA TOTAL [€]
A39: Mejora de la eficiencia energética de la envolvente térmica | F39: =B39-E39 -> 0 | G39: =IF(A14=Full1!A42,0.5,0.4) -> 0.5 | H39: =IF(A17=Full1!A6,(0.15*C24),0) -> 0 | I39: =C29*1 -> 0 | J39: =0.25*C31 -> 0 | K39: =SUM(H39:J39) -> 0 | L39: =MIN(K39+G39,1) -> 0.5 | M39: =IF(A11=Full1!A47,0.5,IF(A11=Full1!A48,0.4,IF(A11=Full1!A49,0.3,0))) -> 0.5 | N39: =IF(MIN((TRUNC(B39,0))*L39,F39*M39)<0,0,MIN((TRUNC(B39,0))*L39,F39*M39)) -> 0
A41: ACTUACIÓN TIPO 2 | B41: COSTE ELEGIBLE | C41: POTENCIA TÉRMICA NUEVA [kW] | D41: COSTE ELEGIBLE MÁXIMO | E41: COSTE DE REFERENCIA DE LA INSTALACIÓN CONVENCIONAL EQUIVALENTE | F41: COSTE SUBVENCIONABLE | G41: % AYUDA BASE | H41: % AYUDA ADICIONAL POR CRITERIO SOCIAL | I41: % AYUDA ADICIONAL POR EFICIENCIA ENERGÉTICA | J41: % AYUDA ADICIONAL POR ACTUACIÓN INTEGRADA | K41: % AYUDA ADICIONAL TOTAL | L41: % AYUDA TOTAL | M41: % AYUDA MÁXIMA POR TIPO DE EMPRESA | N41: AYUDA TOTAL [€]
A42: Mejora de la eficiencia energética de las instalaciones térmicas
A43: 2.1 Sustitución de energía convencional por energía solar térmica
A44: Caso S1: ACS y/o climatización de piscinas | D44: =IF(A44=Full1!A11,MIN(B44,1000*C44),IF(A44=Full1!A12,MIN(B44,1500*C44),IF(A44=Full1!A13,MIN(B44,1850*C44),IF(A44=Full1!A10,0)))) -> 0 | F44: =D44-E44 -> 0 | G44: =IF(A14=Full1!A42,0.4,0.3) -> 0.4 | H44: =IF(A17=Full1!A6,(0.1*C24),0) -> 0 | I44: =D29*1 -> 0 | J44: =0.2*C31 -> 0 | K44: =SUM(H44:J44) -> 0 | L44: =K44+G44 -> 0.4 | M44: =IF(A11=Full1!A47,0.65,IF(A11=Full1!A48,0.55,IF(A11=Full1!A49,0.45,0))) -> 0.65 | N44: =IF(MIN((TRUNC(D44,0))*L44,F44*M44)<0,0,MIN((TRUNC(D44,0))*L44,F44*M44)) -> 0
A45: 2.2 Sustitución de energía convencional por energía geotérmica
A46: Caso G1: Instalaciones de generación de agua caliente y/o calefacción / refrigeración en circuito abierto, para un edificio | D46: =IF(A46=Full1!A17,MIN(B46,1600*(C46^0.83)),IF(A46=Full1!A18,MIN(B46,4000*(C46^0.83)),IF(A46=Full1!A19,MIN(B46,2600*(C46^0.83)),IF(A46=Full1!A20,MIN(B46,5000*(C46^0.83)),IF(A46=Full1!A16,0))))) -> 0 | F46: =D46-E46 -> 0 | G46: =IF(A14=Full1!A42,0.4,0.3) -> 0.4 | H46: =IF(A17=Full1!A6,(0.1*C24),0) -> 0 | I46: =IF(A17=Full1!A6,0,D29*1) -> 0 | J46: =(0.2*C31) -> 0 | K46: =SUM(H46:J46) -> 0 | L46: =K46+G46 -> 0.4 | M46: =IF(A11=Full1!A47,0.65,IF(A11=Full1!A48,0.55,IF(A11=Full1!A49,0.45,0))) -> 0.65 | N46: =IF(MIN((TRUNC(D46,0))*L46,F46*M46)<0,0,MIN((TRUNC(D46,0))*L46,F46*M46)) -> 0
A47: 2.3 Sustitución de energía convencional por biomasa en las instalaciones térmicas
A48: Caso B1: Instalaciones de generación de agua caliente y/o calefacción en un edificio | D48: =IF(A48=Full1!A24,MIN(B48,400*C48),IF(A48=Full1!A25,MIN(B48,880*(C48^0.87)),IF(A48=Full1!A26,MIN(B48,1540*(C48^0.87)),IF(A48=Full1!A27,MIN(B48,1250*(C48^0.87)),IF(A48=Full1!A28,MIN(B48,2124*(C48^0.87)),IF(A48=Full1!A29,MIN(B48,2374*(C48^0.87)),IF(A48=Full1!A23,0))))))) -> 0 | F48: =D48-E48 -> 0 | G48: =IF(A14=Full1!A42,0.4,0.3) -> 0.4 | H48: =IF(A17=Full1!A6,(0.1*C24),0) -> 0 | I48: =IF(A17=Full1!A6,0,(D29)*1) -> 0 | J48: =0.15*C31 -> 0 | K48: =SUM(H48:J48) -> 0 | L48: =K48+G48 -> 0.4 | M48: =IF(A11=Full1!A47,0.65,IF(A11=Full1!A48,0.55,IF(A11=Full1!A49,0.45,0))) -> 0.65 | N48: =IF(MIN((TRUNC(D48,0))*L48,F48*M48)<0,0,MIN((TRUNC(D48,0))*L48,F48*M48)) -> 0
A49: 2.4 Mejora de la eficiencia energética de los sistemas de generación no incluidos en las subtipologías 2.1 a 2.3 | F49: =B49-E49 -> 0 | G49: =IF(A14=Full1!A42,0.4,0.3) -> 0.4 | H49: 0 | I49: =D29*1 -> 0 | J49: =0.05*C31 -> 0 | K49: =SUM(H49:J49) -> 0 | L49: =K49+G49 -> 0.4 | M49: =IF(A11=Full1!A47,0.65,IF(A11=Full1!A48,0.55,IF(A11=Full1!A49,0.45,0))) -> 0.65 | N49: =IF(MIN((TRUNC(B49,0))*L49,F49*M49)<0,0,MIN((TRUNC(B49,0))*L49,F49*M49)) -> 0
A50: 2.5 Mejora de la eficiencia energética de los subsistemas de distribución, regulación, control y emisión de las instalaciones térmicas
...

Sheet Full1
A1: AFIRMATIVO/NEGATIVO
A2: Sí
A3: No
A5: TIPO DE EDIFICIO
A6: Vivienda
A7: Otros usos
A9: TIPOLOGÍA DE ACTUACIÓN 2.1
A10: Ninguna
A11: Caso S1: ACS y/o climatización de piscinas
A12: Caso S2: Calefacción y opcionalmente caso S1
A13: Caso S3: Calefacción y refrigeración, y opcionalmente caso S1
A15: TIPOLOGÍA DE ACTUACIÓN 2.2
... A69: vii. Otros edificios
